BEGIN:VCALENDAR
VERSION:2.0
PRODID:-//Brahma Kumaris United Nations Office - ECPv6.15.17//NONSGML v1.0//EN
CALSCALE:GREGORIAN
METHOD:PUBLISH
X-WR-CALNAME:Brahma Kumaris United Nations Office
X-ORIGINAL-URL:https://un.brahmakumaris.org
X-WR-CALDESC:Events for Brahma Kumaris United Nations Office
REFRESH-INTERVAL;VALUE=DURATION:PT1H
X-Robots-Tag:noindex
X-PUBLISHED-TTL:PT1H
BEGIN:VTIMEZONE
TZID:America/Toronto
BEGIN:DAYLIGHT
TZOFFSETFROM:-0500
TZOFFSETTO:-0400
TZNAME:EDT
DTSTART:20240310T070000
END:DAYLIGHT
BEGIN:STANDARD
TZOFFSETFROM:-0400
TZOFFSETTO:-0500
TZNAME:EST
DTSTART:20241103T060000
END:STANDARD
BEGIN:DAYLIGHT
TZOFFSETFROM:-0500
TZOFFSETTO:-0400
TZNAME:EDT
DTSTART:20250309T070000
END:DAYLIGHT
BEGIN:STANDARD
TZOFFSETFROM:-0400
TZOFFSETTO:-0500
TZNAME:EST
DTSTART:20251102T060000
END:STANDARD
BEGIN:DAYLIGHT
TZOFFSETFROM:-0500
TZOFFSETTO:-0400
TZNAME:EDT
DTSTART:20260308T070000
END:DAYLIGHT
BEGIN:STANDARD
TZOFFSETFROM:-0400
TZOFFSETTO:-0500
TZNAME:EST
DTSTART:20261101T060000
END:STANDARD
END:VTIMEZONE
BEGIN:VEVENT
DTSTART;TZID=America/Toronto:20250408T180000
DTEND;TZID=America/Toronto:20250408T190000
DTSTAMP:20260422T143923
CREATED:20250408T202049Z
LAST-MODIFIED:20250408T203602Z
UID:10000019-1744135200-1744138800@un.brahmakumaris.org
SUMMARY:Weekly Meditation
DESCRIPTION:Tonight’s meditation is dedicated to International Day of Sport for Development and Peace. \n“It’s not just about aiming at the target\, it’s about quieting the noise within. In that silence\, you find your focus; in the stillness\, you find your strength.”  \n6:00-7:00pm \nIf you are joining online\, kindly use the same zoom id: 97551201291\, passcode: happy. \n 
URL:https://un.brahmakumaris.org/event/weekly-meditation/
LOCATION:Brahma Kumaris Office at the UN\, 866 UN PLaza\, Suite 436\, NY\, New York
CATEGORIES:Meditation
ATTACH;FMTTYPE=image/jpeg:https://un.brahmakumaris.org/wp-content/uploads/2025/04/Weekly-Meditation_April-2025.jpeg
END:VEVENT
END:VCALENDAR