BEGIN:VCALENDAR
VERSION:2.0
PRODID:-//Brahma Kumaris United Nations Office - ECPv6.15.17//NONSGML v1.0//EN
CALSCALE:GREGORIAN
METHOD:PUBLISH
X-ORIGINAL-URL:https://un.brahmakumaris.org
X-WR-CALDESC:Events for Brahma Kumaris United Nations Office
REFRESH-INTERVAL;VALUE=DURATION:PT1H
X-Robots-Tag:noindex
X-PUBLISHED-TTL:PT1H
BEGIN:VTIMEZONE
TZID:America/Toronto
BEGIN:DAYLIGHT
TZOFFSETFROM:-0500
TZOFFSETTO:-0400
TZNAME:EDT
DTSTART:20240310T070000
END:DAYLIGHT
BEGIN:STANDARD
TZOFFSETFROM:-0400
TZOFFSETTO:-0500
TZNAME:EST
DTSTART:20241103T060000
END:STANDARD
BEGIN:DAYLIGHT
TZOFFSETFROM:-0500
TZOFFSETTO:-0400
TZNAME:EDT
DTSTART:20250309T070000
END:DAYLIGHT
BEGIN:STANDARD
TZOFFSETFROM:-0400
TZOFFSETTO:-0500
TZNAME:EST
DTSTART:20251102T060000
END:STANDARD
BEGIN:DAYLIGHT
TZOFFSETFROM:-0500
TZOFFSETTO:-0400
TZNAME:EDT
DTSTART:20260308T070000
END:DAYLIGHT
BEGIN:STANDARD
TZOFFSETFROM:-0400
TZOFFSETTO:-0500
TZNAME:EST
DTSTART:20261101T060000
END:STANDARD
BEGIN:DAYLIGHT
TZOFFSETFROM:-0500
TZOFFSETTO:-0400
TZNAME:EDT
DTSTART:20270314T070000
END:DAYLIGHT
BEGIN:STANDARD
TZOFFSETFROM:-0400
TZOFFSETTO:-0500
TZNAME:EST
DTSTART:20271107T060000
END:STANDARD
END:VTIMEZONE
BEGIN:VEVENT
DTSTART;TZID=America/Toronto:20251028T180000
DTEND;TZID=America/Toronto:20251028T190000
DTSTAMP:20260422T190633
CREATED:20251018T190554Z
LAST-MODIFIED:20251018T190838Z
UID:10000078-1761674400-1761678000@un.brahmakumaris.org
SUMMARY:October Weekly Meditation
DESCRIPTION:
URL:https://un.brahmakumaris.org/event/october-weekly-meditation-2/2025-10-28/
CATEGORIES:Meditation
ATTACH;FMTTYPE=image/jpeg:https://un.brahmakumaris.org/wp-content/uploads/2025/10/WhatsApp-Image-2025-10-05-at-14.33.48.jpeg
END:VEVENT
BEGIN:VEVENT
DTSTART;TZID=America/Toronto:20251104T180000
DTEND;TZID=America/Toronto:20251104T190000
DTSTAMP:20260422T190633
CREATED:20251103T195146Z
LAST-MODIFIED:20251111T201321Z
UID:10000088-1762279200-1762282800@un.brahmakumaris.org
SUMMARY:November Weekly Meditation
DESCRIPTION:Tonight’s meditation will be dedicated to the success of the UN 2nd World Summit on Social Development taking place in Doha\, Qatar\, from November 4 – 6\, 2025.\nIn-person attendance: \n\n\n\nBrahma Kumaris Office at the UN\n866 UN Plaza\, Suite 436\nNY\, NY 10017\nRSVP mandatory: info@un.brahmakumaris.org\n\nOnline participation: https://bit.ly/weeklymed
URL:https://un.brahmakumaris.org/event/november-weekly-meditation/
CATEGORIES:Meditation,Participation in UN Events,Working in Partnership
ATTACH;FMTTYPE=image/png:https://un.brahmakumaris.org/wp-content/uploads/2025/11/Screenshot-2025-11-11-at-3.10.56-PM.png
END:VEVENT
BEGIN:VEVENT
DTSTART;TZID=America/Toronto:20251111T180000
DTEND;TZID=America/Toronto:20251111T190000
DTSTAMP:20260422T190633
CREATED:20251111T194910Z
LAST-MODIFIED:20251111T194929Z
UID:10000087-1762884000-1762887600@un.brahmakumaris.org
SUMMARY:November Weekly Meditation
DESCRIPTION:Tonight’s meditation will be dedicated to UNESCO’S International Day of Tolerance which will be observed on November 16.  Tolerance is not mere endurance\, but an act of love that brings sweet\, imperishable outcomes. Practicing tolerance involves remaining internally unaffected by others\, accepting them with affection\, and making the effort to respond calmly rather than reacting emotionally\, ultimately leading to personal pleasure and fulfillment.\n \n“Tolerance is respect\, acceptance and appreciation of the rich diversity of our world’s cultures\, our forms of expression and ways of being human.” – UN https://www.unesco.org/en/days/tolerance\n\nJoin us as we further explore what it means to be tolerant.\nIn-person attendance: \n\n\n\nBrahma Kumaris Office at the UN\n866 UN Plaza\, Suite 436\nNY\, NY 10017\nRSVP mandatory: info@un.brahmakumaris.org\n\nOnline participation: https://bit.ly/weeklymed
URL:https://un.brahmakumaris.org/event/november-weekly-meditation-2/
CATEGORIES:Meditation,Working in Partnership
ATTACH;FMTTYPE=image/jpeg:https://un.brahmakumaris.org/wp-content/uploads/2025/11/WhatsApp-Image-2025-11-03-at-04.14.04.jpeg
END:VEVENT
BEGIN:VEVENT
DTSTART;TZID=America/Toronto:20251118T180000
DTEND;TZID=America/Toronto:20251118T190000
DTSTAMP:20260422T190633
CREATED:20251111T202644Z
LAST-MODIFIED:20251111T205028Z
UID:10000089-1763488800-1763492400@un.brahmakumaris.org
SUMMARY:November Weekly Meditation
DESCRIPTION:Tonight’s meditation will be dedicated to UN World Day of Remembrance of Road Traffic Victims which will be observed on Nov. 16. A dedicated website was launched to make the Day more widely known and to link countries through sharing common objectives and the remembrance of people killed and injured in crashes.\nWorld Day of Remembrances for Road Traffic Victims is \n\nAn opportunity to offer solace to the departed souls\nA day to empathize with the bereaved families\nA day to salute those who regularly handle post-accident scenarios\nA time to dedicate precious moments to express that we Value Life\nA silent\, yet profound acceptance of the pressing need for Change\nAn occasion to pledge for positive change\, beginning with the self\n\nLearn more: https://www.bkroadsafety.org/world-day-of-remembrance.html \nIn-person attendance: \n\n\n\nBrahma Kumaris Office at the UN\n866 UN Plaza\, Suite 436\nNY\, NY 10017\nRSVP mandatory: info@un.brahmakumaris.org\n\nOnline participation: https://bit.ly/weeklymed
URL:https://un.brahmakumaris.org/event/november-weekly-meditation-3/
CATEGORIES:Meditation,Participation in UN Events
ATTACH;FMTTYPE=image/png:https://un.brahmakumaris.org/wp-content/uploads/2025/11/Screenshot-2025-11-11-at-3.24.23-PM-scaled.png
END:VEVENT
BEGIN:VEVENT
DTSTART;TZID=America/Toronto:20251125T180000
DTEND;TZID=America/Toronto:20251125T190000
DTSTAMP:20260422T190633
CREATED:20251111T204714Z
LAST-MODIFIED:20251111T204751Z
UID:10000090-1764093600-1764097200@un.brahmakumaris.org
SUMMARY:November Weekly Meditation
DESCRIPTION:Tonight’s meditation will be dedicated to Thanks Giving Day\, November 27.\n“Thanksgiving is the holiday of peace\, the celebration of work and the simple life… a true folk-festival that speaks the poetry of the turn of the seasons\, the beauty of seedtime and harvest\, the ripe product of the year – and the deep\, deep connection of all these things with God.” Ray Stannard Baker (David Grayson) \nIn-person attendance: \n\n\n\nBrahma Kumaris Office at the UN\n866 UN Plaza\, Suite 436\nNY\, NY 10017\nRSVP mandatory: info@un.brahmakumaris.org\n\nOnline participation: https://bit.ly/weeklymed
URL:https://un.brahmakumaris.org/event/november-weekly-meditation-4/
CATEGORIES:Meditation
ATTACH;FMTTYPE=image/avif:https://un.brahmakumaris.org/wp-content/uploads/2025/11/thanksgiving-celebration-with-delicious-food_23-2151865756.jpg.avif
END:VEVENT
BEGIN:VEVENT
DTSTART;TZID=America/Toronto:20251202T180000
DTEND;TZID=America/Toronto:20251202T190000
DTSTAMP:20260422T190633
CREATED:20251209T175304Z
LAST-MODIFIED:20251209T175304Z
UID:10000099-1764698400-1764702000@un.brahmakumaris.org
SUMMARY:December Monthly Meditation
DESCRIPTION:Tonight’s meditation will be dedicated to UN International Day for Persons with Disabilities which will be celebrated on December 3 under the theme\, “Fostering disability-inclusive societies for advancing social progress”.  This builds on the reaffirmed commitment of world leaders gathered at the Second World Summit for Social Development to build a more just\, inclusive\, equitable and sustainable world and their understanding that advancing progress on social development depends on\, and indeed necessitates\, the inclusion of all segments of society. \n\n“Let’s celebrate the resilience of the human spirit\, the richness of diversity\, and the meaning of inclusion\, recognizing every soul’s inherent worth and ensuring each one feels truly seen and heard.” – Brahma Kumaris UN.\n\nIn-person attendance: \n\n\n\nBrahma Kumaris Office at the UN\n866 UN Plaza\, Suite 436\nNY\, NY 10017\nRSVP mandatory: info@un.brahmakumaris.org\n\nOnline participation: https://bit.ly/weeklymed
URL:https://un.brahmakumaris.org/event/december-monthly-meditation-2/
CATEGORIES:Meditation,Participation in UN Events
ATTACH;FMTTYPE=image/jpeg:https://un.brahmakumaris.org/wp-content/uploads/2025/12/teachers-story-using-technology-learning_unicef.jpg
END:VEVENT
BEGIN:VEVENT
DTSTART;TZID=America/Toronto:20251216T180000
DTEND;TZID=America/Toronto:20251216T190000
DTSTAMP:20260422T190633
CREATED:20251209T172800Z
LAST-MODIFIED:20251209T172800Z
UID:10000098-1765908000-1765911600@un.brahmakumaris.org
SUMMARY:December Monthly Meditation
DESCRIPTION:Tonight’s meditation will be dedicated to UN World Meditation Day observed on December 21.\n“Meditation is not a way of making your mind quiet. It’s a way of entering into the quiet that’s already there – buried under the 50\,000 thoughts the average person thinks every day.” – Deepak Chopra \n“When our mind is silent\, we see life as it is and not as our mind projects.” – Brahma Kumaris  \nIn-person attendance: \n\n\n\nBrahma Kumaris Office at the UN\n866 UN Plaza\, Suite 436\nNY\, NY 10017\nRSVP mandatory: info@un.brahmakumaris.org\n\nOnline participation: https://bit.ly/weeklymed
URL:https://un.brahmakumaris.org/event/december-monthly-meditation/
CATEGORIES:Meditation,Participation in UN Events
ATTACH;FMTTYPE=image/jpeg:https://un.brahmakumaris.org/wp-content/uploads/2025/10/733c6ede-67ab-4ec2-bc6a-13a8e7049c04.jpg
END:VEVENT
BEGIN:VEVENT
DTSTART;TZID=America/Toronto:20251219T100000
DTEND;TZID=America/Toronto:20251219T120000
DTSTAMP:20260422T190633
CREATED:20251126T182912Z
LAST-MODIFIED:20251202T182453Z
UID:10000096-1766138400-1766145600@un.brahmakumaris.org
SUMMARY:Meditation for Global Peace and Harmony
DESCRIPTION:Dear Friends\, \nThe Permanent Missions of Andorra\, India\, Mexico\, Nepal and Sri Lanka are pleased to invite you to the second commemoration event of the World Meditation Day at the UN on the theme “Meditation for Global Peace and Harmony.” \nDate: 19 December 2025\, Friday\nTime: 10 a.m. to 12 noon\nVenue: Trusteeship Council\, UNHQ \nGurudev Sri Sri Ravi Shankar will lead the meditation practice during commemoration event. Representatives of leading meditation groups\, including the Brahma Kumaris\, will speak on the occasion. \nPlease RSVP here: https://forms.gle/BTc1YU4rx2oMKemq7
URL:https://un.brahmakumaris.org/event/meditation-for-global-peace-and-harmony/
CATEGORIES:Meditation,Participation in UN Events,Working in Partnership
ATTACH;FMTTYPE=image/jpeg:https://un.brahmakumaris.org/wp-content/uploads/2025/11/WhatsApp-Image-2025-12-01-at-15.48.50.jpeg
END:VEVENT
BEGIN:VEVENT
DTSTART;TZID=America/Toronto:20260106T180000
DTEND;TZID=America/Toronto:20260106T190000
DTSTAMP:20260422T190633
CREATED:20260106T202142Z
LAST-MODIFIED:20260106T202451Z
UID:10000101-1767722400-1767726000@un.brahmakumaris.org
SUMMARY:January Weekly Meditation
DESCRIPTION:As we move into the new year\, tonight’s meditation will be dedicated to “Our Inner Compass”. \n \n“To live is to choose. But to choose well\, you must know who you are and what you stand for\, where you want to go and why you want to get there.” – Kofi Annan\, 7th. Secretary General of the United Nations.\n\nIn-person attendance: \n\n\n\nBrahma Kumaris Office at the UN\n866 UN Plaza\, Suite 436\nNY\, NY 10017\nRSVP mandatory: info@un.brahmakumaris.org\n\nOnline participation: https://bit.ly/weeklymed\n\n\n\n\n(Photo credit: UNGeneva)
URL:https://un.brahmakumaris.org/event/january-monthly-meditation/
CATEGORIES:Meditation
ATTACH;FMTTYPE=image/jpeg:https://un.brahmakumaris.org/wp-content/uploads/2026/01/WhatsApp-Image-2026-01-05-at-02.52.55.jpeg
END:VEVENT
BEGIN:VEVENT
DTSTART;TZID=America/Toronto:20260113T180000
DTEND;TZID=America/Toronto:20260113T190000
DTSTAMP:20260422T190633
CREATED:20260106T202421Z
LAST-MODIFIED:20260107T185547Z
UID:10000102-1768327200-1768330800@un.brahmakumaris.org
SUMMARY:January Weekly Meditation
DESCRIPTION:As we move into the new year\, tonight’s meditation will continue to be dedicated to “Our Inner Compass”. \n “Your values create your internal compass that can navigate how you make decisions in your life. If you compromise your core values\, you go nowhere.” – Roy T. Bennett.\n\nIn-person attendance: \n\n\n\nBrahma Kumaris Office at the UN\n866 UN Plaza\, Suite 436\nNY\, NY 10017\nRSVP mandatory: info@un.brahmakumaris.org\n\nOnline participation: https://bit.ly/weeklymed
URL:https://un.brahmakumaris.org/event/january-weekly-meditation-4/
CATEGORIES:Meditation
ATTACH;FMTTYPE=image/jpeg:https://un.brahmakumaris.org/wp-content/uploads/2026/01/top-view-compass-direction-scaled.jpg
END:VEVENT
BEGIN:VEVENT
DTSTART;TZID=America/Toronto:20260120T180000
DTEND;TZID=America/Toronto:20260120T190000
DTSTAMP:20260422T190633
CREATED:20260106T202556Z
LAST-MODIFIED:20260107T190241Z
UID:10000103-1768932000-1768935600@un.brahmakumaris.org
SUMMARY:January Weekly Meditation
DESCRIPTION:As we move into the new year\, tonight’s meditation will be dedicated to “Our Inner Compass”. \n “The path of spiritual awakening involves uncovering the values and ideas that are authentic to you\, regardless of what others think.”\n― Danielle Kloberdanz\, Inner Compass Mom\n\nIn-person attendance: \n\n\n\nBrahma Kumaris Office at the UN\n866 UN Plaza\, Suite 436\nNY\, NY 10017\nRSVP mandatory: info@un.brahmakumaris.org\n\nOnline participation: https://bit.ly/weeklymed
URL:https://un.brahmakumaris.org/event/january-weekly-meditation-2/
CATEGORIES:Meditation
ATTACH;FMTTYPE=image/jpeg:https://un.brahmakumaris.org/wp-content/uploads/2026/01/sundial-surrounded-by-sea-sunset-rakke-norway-scaled.jpg
END:VEVENT
BEGIN:VEVENT
DTSTART;TZID=America/Toronto:20260127T180000
DTEND;TZID=America/Toronto:20260127T190000
DTSTAMP:20260422T190633
CREATED:20260106T202649Z
LAST-MODIFIED:20260107T190628Z
UID:10000104-1769536800-1769540400@un.brahmakumaris.org
SUMMARY:January Weekly Meditation
DESCRIPTION:As we move into the new year\, tonight’s meditation will be dedicated to “Our Inner Compass”. \n “You can only hear the whisperings of your inner voice – your inner compass – when you turn down the volume of your fears\, your regrets\, your resentments\, and the fear-based advice your neighbors are so willing to give you. – Jonathan Lockwood Huie\n\nIn-person attendance: \n\n\n\nBrahma Kumaris Office at the UN\n866 UN Plaza\, Suite 436\nNY\, NY 10017\nRSVP mandatory: info@un.brahmakumaris.org\n\nOnline participation: https://bit.ly/weeklymed
URL:https://un.brahmakumaris.org/event/january-weekly-meditation-3/
CATEGORIES:Meditation
ATTACH;FMTTYPE=image/jpeg:https://un.brahmakumaris.org/wp-content/uploads/2026/01/top-view-compass-directions-field-scaled.jpg
END:VEVENT
BEGIN:VEVENT
DTSTART;TZID=America/Toronto:20260204T120000
DTEND;TZID=America/Toronto:20260204T140000
DTSTAMP:20260422T190633
CREATED:20260129T220010Z
LAST-MODIFIED:20260129T220010Z
UID:10000108-1770206400-1770213600@un.brahmakumaris.org
SUMMARY:World Interfaith Harmony Week event
DESCRIPTION:This initiative\, which started in 2007\, called for religious leaders to engage in a dialogue based on two common fundamental religious Commandments; Love of God\, and Love of the Neighbour\, without nevertheless compromising any of their own religious tenets. The Two commandments are at the heart of the three Monotheistic religions and therefore provide the most solid theological ground possible. This formula includes all people of goodwill\, including those of other faiths\, and those with no faith. \nIt is hoped that this initiative will provide a focal point from which all people of goodwill can recognize that the common values they hold far outweigh the differences they have\, and thus provide a strong dosage of peace and harmony to their communities. \nprayers |  meditations  | panel discussion  | open dialogue  |  music  |  and more \nTillman Chapel of the Church Center of the UN \n777 UN Plaza\, 44th Street\, NY\, USA
URL:https://un.brahmakumaris.org/event/world-interfaith-harmony-week-event/
CATEGORIES:Meditation,Participation in UN Events,Working in Partnership
ATTACH;FMTTYPE=image/jpeg:https://un.brahmakumaris.org/wp-content/uploads/2026/01/WIHW_2026-scaled.jpeg
END:VEVENT
BEGIN:VEVENT
DTSTART;TZID=America/Toronto:20260212T180000
DTEND;TZID=America/Toronto:20260212T190000
DTSTAMP:20260422T190633
CREATED:20260209T200127Z
LAST-MODIFIED:20260209T200216Z
UID:10000109-1770919200-1770922800@un.brahmakumaris.org
SUMMARY:Weekly Meditation
DESCRIPTION:Tonight’s meditation will be dedicated to “World Radio Day” which will be observed on Feb. 13. \n“UNESCO’s World Radio Day 2026 initiative encourages stations to approach AI as an opportunity for growth and innovation—while preserving the warmth\, reliability\, and human touch that audiences value.” – UN Website. https://www.un.org/en/observances/radio-day\n\nIn-person attendance: \n\n\n\nBrahma Kumaris Office at the UN\n866 UN Plaza\, Suite 436\n\nNY\, NY 10017\nRSVP mandatory: info@un.brahmakumaris.org\n\nOnline participation: https://bit.ly/weeklymed
URL:https://un.brahmakumaris.org/event/february-meditation/
CATEGORIES:Meditation,Working in Partnership
ATTACH;FMTTYPE=image/png:https://un.brahmakumaris.org/wp-content/uploads/2026/02/Screenshot-2026-02-09-at-3.00.17-PM.png
END:VEVENT
BEGIN:VEVENT
DTSTART;TZID=America/Toronto:20260219T180000
DTEND;TZID=America/Toronto:20260219T190000
DTSTAMP:20260422T190633
CREATED:20260209T201229Z
LAST-MODIFIED:20260209T201256Z
UID:10000110-1771524000-1771527600@un.brahmakumaris.org
SUMMARY:Weekly Meditation
DESCRIPTION:Tonight’s meditation will be dedicated to “LOVE” (Valentine’s Day). \n““Being deeply loved by someone gives you strength\, while loving someone deeply gives you courage.”― Lao Tzu“\n\n\n“What the world needs now is love\, sweet love…” –  Dionne Warwick \nIn-person attendance: \n\n\n\nBrahma Kumaris Office at the UN\n866 UN Plaza\, Suite 436\nNY\, NY 10017\nRSVP mandatory: info@un.brahmakumaris.org\n\nOnline participation: https://bit.ly/weeklymed
URL:https://un.brahmakumaris.org/event/weekly-meditation-15/
CATEGORIES:Meditation
ATTACH;FMTTYPE=image/avif:https://un.brahmakumaris.org/wp-content/uploads/2026/02/view-beach-sand-summertime-with-message-written-it_23-2151145596.jpg.avif
END:VEVENT
BEGIN:VEVENT
DTSTART;TZID=America/Toronto:20260226T180000
DTEND;TZID=America/Toronto:20260226T190000
DTSTAMP:20260422T190633
CREATED:20260209T202231Z
LAST-MODIFIED:20260209T202231Z
UID:10000111-1772128800-1772132400@un.brahmakumaris.org
SUMMARY:Weekly Meditation
DESCRIPTION:Tonight’s meditation will be dedicated to “World Day of Social Justice” observed on Feb. 20. \n\n“The importance of decent work in achieving the adopted Agenda for Sustainable Development is highlighted by Goal 8 which aims to “promote sustained\, inclusive\, and sustainable economic growth\, full and productive employment and decent work for all.” – UN Website \n\n\nIn-person attendance: \n\n\n\nBrahma Kumaris Office at the UN\n866 UN Plaza\, Suite 436\nNY\, NY 10017\nRSVP mandatory: info@un.brahmakumaris.org\n\nOnline participation: https://bit.ly/weeklymed
URL:https://un.brahmakumaris.org/event/weekly-meditation-16/
CATEGORIES:Meditation
ATTACH;FMTTYPE=image/png:https://un.brahmakumaris.org/wp-content/uploads/2026/02/sjd2026banner.png
END:VEVENT
BEGIN:VEVENT
DTSTART;TZID=America/Toronto:20260305T180000
DTEND;TZID=America/Toronto:20260305T190000
DTSTAMP:20260422T190633
CREATED:20260209T203334Z
LAST-MODIFIED:20260209T203334Z
UID:10000112-1772733600-1772737200@un.brahmakumaris.org
SUMMARY:Weekly Meditation
DESCRIPTION:Tonight’s meditation will be dedicated to “Elimination of Racial Discrimination Day” observed on March 21. \n\n“The United Nations has been concerned with this issue since its foundation and the prohibition of racial discrimination is enshrined in all core international human rights instruments. It places obligations on States and tasks them with eradicating discrimination in the public and private spheres. The principle of equality also requires States to adopt special measures to eliminate conditions that cause or help to perpetuate racial discrimination.” – UN Website \n\n\nIn-person attendance: \n\n\n\nBrahma Kumaris Office at the UN\n866 UN Plaza\, Suite 436\nNY\, NY 10017\nRSVP mandatory: info@un.brahmakumaris.org\n\nOnline participation: https://bit.ly/weeklymed
URL:https://un.brahmakumaris.org/event/weekly-meditation-17/
CATEGORIES:Meditation,Participation in UN Events
ATTACH;FMTTYPE=image/jpeg:https://un.brahmakumaris.org/wp-content/uploads/2026/02/The-Golden-Rule-mosaic-.jpg
END:VEVENT
BEGIN:VEVENT
DTSTART;TZID=America/Toronto:20260407T180000
DTEND;TZID=America/Toronto:20260407T190000
DTSTAMP:20260422T190633
CREATED:20260402T221104Z
LAST-MODIFIED:20260402T221104Z
UID:10000115-1775584800-1775588400@un.brahmakumaris.org
SUMMARY:Weekly Meditation - April 2026
DESCRIPTION:Tonight’s meditation will be dedicated to “International Day of Conscience” observed on April 5. \n“A vision grounded in love\, conscience\, and collective action” – UN Website \n\n“When your intentions are right and honorable\, then your conscience is clear.” ― Bohdi Sanders \n\n\nIn-person attendance: \n\n\n\nBrahma Kumaris Office at the UN\n866 UN Plaza\, Suite 436\nNY\, NY 10017\nRSVP mandatory: info@un.brahmakumaris.org\n\nOnline participation: https://bit.ly/weeklymed
URL:https://un.brahmakumaris.org/event/weekly-meditation-april-2026/
CATEGORIES:Meditation
ATTACH;FMTTYPE=image/png:https://un.brahmakumaris.org/wp-content/uploads/2025/07/turnhopeintoaction.png
END:VEVENT
BEGIN:VEVENT
DTSTART;TZID=America/Toronto:20260414T180000
DTEND;TZID=America/Toronto:20260414T190000
DTSTAMP:20260422T190633
CREATED:20260402T221807Z
LAST-MODIFIED:20260402T221807Z
UID:10000116-1776189600-1776193200@un.brahmakumaris.org
SUMMARY:Weekly Meditation - April
DESCRIPTION:Tonight’s meditation will be dedicated to “International Wellness Day” observed on April 15. \n“This Day serves as a platform for education\, cultural exchange\, and knowledge-sharing — encouraging people everywhere to embrace accessible\, inclusive\, and affordable wellness practices that enhance both personal and collective health.” – UN Website \n\n\n“Health is a state of complete physical\, mental and social well-being\, and not merely the absence of disease or infirmity.” — World Health Organization \n\n\n\nIn-person attendance: \n\n\n\nBrahma Kumaris Office at the UN\n866 UN Plaza\, Suite 436\nNY\, NY 10017\nRSVP mandatory: info@un.brahmakumaris.org\n\nOnline participation: https://bit.ly/weeklymed
URL:https://un.brahmakumaris.org/event/weekly-meditation-april/
CATEGORIES:Meditation,Working in Partnership
ATTACH;FMTTYPE=image/jpeg:https://un.brahmakumaris.org/wp-content/uploads/2025/09/health-bg-1-scaled.jpg
END:VEVENT
BEGIN:VEVENT
DTSTART;TZID=America/Toronto:20260421T180000
DTEND;TZID=America/Toronto:20260421T190000
DTSTAMP:20260422T190633
CREATED:20260402T222352Z
LAST-MODIFIED:20260402T222352Z
UID:10000117-1776794400-1776798000@un.brahmakumaris.org
SUMMARY:Weekly Meditation - April
DESCRIPTION:Tonight’s meditation will be dedicated to “International Mother Earth Day” observed on April 22. Let’s show Mother Earth how much we care. \n“For this International Mother Earth Day\, let’s remind ourselves – more than ever – that we need a shift to a more sustainable economy that works for both people and the planet. Let’s promote harmony with nature and the Earth. Join the global movement to restore our world!” – UN Website \n\n\n\n\nIn-person attendance: \n\n\n\nBrahma Kumaris Office at the UN\n866 UN Plaza\, Suite 436\nNY\, NY 10017\nRSVP mandatory: info@un.brahmakumaris.org\n\nOnline participation: https://bit.ly/weeklymed
URL:https://un.brahmakumaris.org/event/weekly-meditation-april-2/
CATEGORIES:Meditation
ATTACH;FMTTYPE=image/avif:https://un.brahmakumaris.org/wp-content/uploads/2026/02/view-beach-sand-summertime-with-message-written-it_23-2151145596.jpg.avif
END:VEVENT
BEGIN:VEVENT
DTSTART;TZID=America/Toronto:20260428T180000
DTEND;TZID=America/Toronto:20260428T190000
DTSTAMP:20260422T190633
CREATED:20260402T223241Z
LAST-MODIFIED:20260402T223241Z
UID:10000118-1777399200-1777402800@un.brahmakumaris.org
SUMMARY:Weekly Meditation - April
DESCRIPTION:Tonight’s meditation will be dedicated to “International Jazz Day” observed on April 30. What better than music\, jazz music\, to bring health and healing while we meditate… \n\nOn What Jazz Is\n\n“Man\, if you have to ask what it [jazz] is\, you’ll never know.” — Louis Armstrong\n“Jazz is the only music in which the same note can be played night after night but differently each time.” — Ornette Coleman\n“Jazz music is the power of now. There is no script. It’s conversation.” — Wynton Marsalis\n“Jazz is not just music\, it’s a way of life\, it’s a way of being\, a way of thinking.” — Nina Simone\n\n\n\nIn-person attendance: \n\n\n\nBrahma Kumaris Office at the UN\n866 UN Plaza\, Suite 436\nNY\, NY 10017\nRSVP mandatory: info@un.brahmakumaris.org\n\nOnline participation: https://bit.ly/weeklymed
URL:https://un.brahmakumaris.org/event/weekly-meditation-april-3/
CATEGORIES:Meditation,Working in Partnership
ATTACH;FMTTYPE=image/jpeg:https://un.brahmakumaris.org/wp-content/uploads/2026/04/istockphoto-165968666-612x612-1.jpg
END:VEVENT
END:VCALENDAR