BEGIN:VCALENDAR
VERSION:2.0
PRODID:-//Brahma Kumaris United Nations Office - ECPv6.15.17//NONSGML v1.0//EN
CALSCALE:GREGORIAN
METHOD:PUBLISH
X-WR-CALNAME:Brahma Kumaris United Nations Office
X-ORIGINAL-URL:https://un.brahmakumaris.org
X-WR-CALDESC:Events for Brahma Kumaris United Nations Office
REFRESH-INTERVAL;VALUE=DURATION:PT1H
X-Robots-Tag:noindex
X-PUBLISHED-TTL:PT1H
BEGIN:VTIMEZONE
TZID:America/Toronto
BEGIN:DAYLIGHT
TZOFFSETFROM:-0500
TZOFFSETTO:-0400
TZNAME:EDT
DTSTART:20250309T070000
END:DAYLIGHT
BEGIN:STANDARD
TZOFFSETFROM:-0400
TZOFFSETTO:-0500
TZNAME:EST
DTSTART:20251102T060000
END:STANDARD
BEGIN:DAYLIGHT
TZOFFSETFROM:-0500
TZOFFSETTO:-0400
TZNAME:EDT
DTSTART:20260308T070000
END:DAYLIGHT
BEGIN:STANDARD
TZOFFSETFROM:-0400
TZOFFSETTO:-0500
TZNAME:EST
DTSTART:20261101T060000
END:STANDARD
BEGIN:DAYLIGHT
TZOFFSETFROM:-0500
TZOFFSETTO:-0400
TZNAME:EDT
DTSTART:20270314T070000
END:DAYLIGHT
BEGIN:STANDARD
TZOFFSETFROM:-0400
TZOFFSETTO:-0500
TZNAME:EST
DTSTART:20271107T060000
END:STANDARD
END:VTIMEZONE
BEGIN:VEVENT
DTSTART;TZID=America/Toronto:20260219T180000
DTEND;TZID=America/Toronto:20260219T190000
DTSTAMP:20260422T212400
CREATED:20260209T201229Z
LAST-MODIFIED:20260209T201256Z
UID:10000110-1771524000-1771527600@un.brahmakumaris.org
SUMMARY:Weekly Meditation
DESCRIPTION:Tonight’s meditation will be dedicated to “LOVE” (Valentine’s Day). \n““Being deeply loved by someone gives you strength\, while loving someone deeply gives you courage.”― Lao Tzu“\n\n\n“What the world needs now is love\, sweet love…” –  Dionne Warwick \nIn-person attendance: \n\n\n\nBrahma Kumaris Office at the UN\n866 UN Plaza\, Suite 436\nNY\, NY 10017\nRSVP mandatory: info@un.brahmakumaris.org\n\nOnline participation: https://bit.ly/weeklymed
URL:https://un.brahmakumaris.org/event/weekly-meditation-15/
CATEGORIES:Meditation
ATTACH;FMTTYPE=image/avif:https://un.brahmakumaris.org/wp-content/uploads/2026/02/view-beach-sand-summertime-with-message-written-it_23-2151145596.jpg.avif
END:VEVENT
BEGIN:VEVENT
DTSTART;TZID=America/Toronto:20260226T180000
DTEND;TZID=America/Toronto:20260226T190000
DTSTAMP:20260422T212400
CREATED:20260209T202231Z
LAST-MODIFIED:20260209T202231Z
UID:10000111-1772128800-1772132400@un.brahmakumaris.org
SUMMARY:Weekly Meditation
DESCRIPTION:Tonight’s meditation will be dedicated to “World Day of Social Justice” observed on Feb. 20. \n\n“The importance of decent work in achieving the adopted Agenda for Sustainable Development is highlighted by Goal 8 which aims to “promote sustained\, inclusive\, and sustainable economic growth\, full and productive employment and decent work for all.” – UN Website \n\n\nIn-person attendance: \n\n\n\nBrahma Kumaris Office at the UN\n866 UN Plaza\, Suite 436\nNY\, NY 10017\nRSVP mandatory: info@un.brahmakumaris.org\n\nOnline participation: https://bit.ly/weeklymed
URL:https://un.brahmakumaris.org/event/weekly-meditation-16/
CATEGORIES:Meditation
ATTACH;FMTTYPE=image/png:https://un.brahmakumaris.org/wp-content/uploads/2026/02/sjd2026banner.png
END:VEVENT
BEGIN:VEVENT
DTSTART;TZID=America/Toronto:20260305T180000
DTEND;TZID=America/Toronto:20260305T190000
DTSTAMP:20260422T212400
CREATED:20260209T203334Z
LAST-MODIFIED:20260209T203334Z
UID:10000112-1772733600-1772737200@un.brahmakumaris.org
SUMMARY:Weekly Meditation
DESCRIPTION:Tonight’s meditation will be dedicated to “Elimination of Racial Discrimination Day” observed on March 21. \n\n“The United Nations has been concerned with this issue since its foundation and the prohibition of racial discrimination is enshrined in all core international human rights instruments. It places obligations on States and tasks them with eradicating discrimination in the public and private spheres. The principle of equality also requires States to adopt special measures to eliminate conditions that cause or help to perpetuate racial discrimination.” – UN Website \n\n\nIn-person attendance: \n\n\n\nBrahma Kumaris Office at the UN\n866 UN Plaza\, Suite 436\nNY\, NY 10017\nRSVP mandatory: info@un.brahmakumaris.org\n\nOnline participation: https://bit.ly/weeklymed
URL:https://un.brahmakumaris.org/event/weekly-meditation-17/
CATEGORIES:Meditation,Participation in UN Events
ATTACH;FMTTYPE=image/jpeg:https://un.brahmakumaris.org/wp-content/uploads/2026/02/The-Golden-Rule-mosaic-.jpg
END:VEVENT
BEGIN:VEVENT
DTSTART;TZID=America/Toronto:20260407T180000
DTEND;TZID=America/Toronto:20260407T190000
DTSTAMP:20260422T212400
CREATED:20260402T221104Z
LAST-MODIFIED:20260402T221104Z
UID:10000115-1775584800-1775588400@un.brahmakumaris.org
SUMMARY:Weekly Meditation - April 2026
DESCRIPTION:Tonight’s meditation will be dedicated to “International Day of Conscience” observed on April 5. \n“A vision grounded in love\, conscience\, and collective action” – UN Website \n\n“When your intentions are right and honorable\, then your conscience is clear.” ― Bohdi Sanders \n\n\nIn-person attendance: \n\n\n\nBrahma Kumaris Office at the UN\n866 UN Plaza\, Suite 436\nNY\, NY 10017\nRSVP mandatory: info@un.brahmakumaris.org\n\nOnline participation: https://bit.ly/weeklymed
URL:https://un.brahmakumaris.org/event/weekly-meditation-april-2026/
CATEGORIES:Meditation
ATTACH;FMTTYPE=image/png:https://un.brahmakumaris.org/wp-content/uploads/2025/07/turnhopeintoaction.png
END:VEVENT
BEGIN:VEVENT
DTSTART;TZID=America/Toronto:20260414T180000
DTEND;TZID=America/Toronto:20260414T190000
DTSTAMP:20260422T212400
CREATED:20260402T221807Z
LAST-MODIFIED:20260402T221807Z
UID:10000116-1776189600-1776193200@un.brahmakumaris.org
SUMMARY:Weekly Meditation - April
DESCRIPTION:Tonight’s meditation will be dedicated to “International Wellness Day” observed on April 15. \n“This Day serves as a platform for education\, cultural exchange\, and knowledge-sharing — encouraging people everywhere to embrace accessible\, inclusive\, and affordable wellness practices that enhance both personal and collective health.” – UN Website \n\n\n“Health is a state of complete physical\, mental and social well-being\, and not merely the absence of disease or infirmity.” — World Health Organization \n\n\n\nIn-person attendance: \n\n\n\nBrahma Kumaris Office at the UN\n866 UN Plaza\, Suite 436\nNY\, NY 10017\nRSVP mandatory: info@un.brahmakumaris.org\n\nOnline participation: https://bit.ly/weeklymed
URL:https://un.brahmakumaris.org/event/weekly-meditation-april/
CATEGORIES:Meditation,Working in Partnership
ATTACH;FMTTYPE=image/jpeg:https://un.brahmakumaris.org/wp-content/uploads/2025/09/health-bg-1-scaled.jpg
END:VEVENT
BEGIN:VEVENT
DTSTART;TZID=America/Toronto:20260421T180000
DTEND;TZID=America/Toronto:20260421T190000
DTSTAMP:20260422T212400
CREATED:20260402T222352Z
LAST-MODIFIED:20260402T222352Z
UID:10000117-1776794400-1776798000@un.brahmakumaris.org
SUMMARY:Weekly Meditation - April
DESCRIPTION:Tonight’s meditation will be dedicated to “International Mother Earth Day” observed on April 22. Let’s show Mother Earth how much we care. \n“For this International Mother Earth Day\, let’s remind ourselves – more than ever – that we need a shift to a more sustainable economy that works for both people and the planet. Let’s promote harmony with nature and the Earth. Join the global movement to restore our world!” – UN Website \n\n\n\n\nIn-person attendance: \n\n\n\nBrahma Kumaris Office at the UN\n866 UN Plaza\, Suite 436\nNY\, NY 10017\nRSVP mandatory: info@un.brahmakumaris.org\n\nOnline participation: https://bit.ly/weeklymed
URL:https://un.brahmakumaris.org/event/weekly-meditation-april-2/
CATEGORIES:Meditation
ATTACH;FMTTYPE=image/avif:https://un.brahmakumaris.org/wp-content/uploads/2026/02/view-beach-sand-summertime-with-message-written-it_23-2151145596.jpg.avif
END:VEVENT
BEGIN:VEVENT
DTSTART;TZID=America/Toronto:20260428T180000
DTEND;TZID=America/Toronto:20260428T190000
DTSTAMP:20260422T212400
CREATED:20260402T223241Z
LAST-MODIFIED:20260402T223241Z
UID:10000118-1777399200-1777402800@un.brahmakumaris.org
SUMMARY:Weekly Meditation - April
DESCRIPTION:Tonight’s meditation will be dedicated to “International Jazz Day” observed on April 30. What better than music\, jazz music\, to bring health and healing while we meditate… \n\nOn What Jazz Is\n\n“Man\, if you have to ask what it [jazz] is\, you’ll never know.” — Louis Armstrong\n“Jazz is the only music in which the same note can be played night after night but differently each time.” — Ornette Coleman\n“Jazz music is the power of now. There is no script. It’s conversation.” — Wynton Marsalis\n“Jazz is not just music\, it’s a way of life\, it’s a way of being\, a way of thinking.” — Nina Simone\n\n\n\nIn-person attendance: \n\n\n\nBrahma Kumaris Office at the UN\n866 UN Plaza\, Suite 436\nNY\, NY 10017\nRSVP mandatory: info@un.brahmakumaris.org\n\nOnline participation: https://bit.ly/weeklymed
URL:https://un.brahmakumaris.org/event/weekly-meditation-april-3/
CATEGORIES:Meditation,Working in Partnership
ATTACH;FMTTYPE=image/jpeg:https://un.brahmakumaris.org/wp-content/uploads/2026/04/istockphoto-165968666-612x612-1.jpg
END:VEVENT
END:VCALENDAR